


BEGIN:VCALENDAR
VERSION:2.0
PRODID:-//St. James Baptist Church - ECPv6.8.0//NONSGML v1.0//EN
CALSCALE:GREGORIAN
METHOD:PUBLISH
X-ORIGINAL-URL:https://stjbc.org
X-WR-CALDESC:Events for St. James Baptist Church
REFRESH-INTERVAL;VALUE=DURATION:PT1H
X-Robots-Tag:noindex
X-PUBLISHED-TTL:PT1H
BEGIN:VTIMEZONE
TZID:America/Chicago
BEGIN:DAYLIGHT
TZOFFSETFROM:-0600
TZOFFSETTO:-0500
TZNAME:CDT
DTSTART:20260308T080000
END:DAYLIGHT
BEGIN:STANDARD
TZOFFSETFROM:-0500
TZOFFSETTO:-0600
TZNAME:CST
DTSTART:20261101T070000
END:STANDARD
END:VTIMEZONE
BEGIN:VEVENT
DTSTART;TZID=America/Chicago:20260510T080000
DTEND;TZID=America/Chicago:20260510T120000
DTSTAMP:20260424T102046
CREATED:20260415T153328Z
LAST-MODIFIED:20260417T210740Z
UID:10002392-1778400000-1778414400@stjbc.org
SUMMARY:Mother's Day Breakfast
DESCRIPTION:Join us as we come together to celebrate and honor the incredible mothers and women who have blessed our lives with love\, strength\, and faith. We invite you and your family to a special Mother’s Day celebration at Saint James Baptist Church filled with fellowship\, joy\, and heartfelt appreciation. \nMother’s Day Breakfast\n8:00 am – Fellowship Hall \nMorning Worship (Prizes & Gifts)\n10:00 am – Sanctuary \nMother’s Day Photos\nAfter Service – Youth Lounge
URL:https://stjbc.org/event/mothers-day-breakfast/
LOCATION:St. James Missionary Baptist Church\, 764 W. North St.\, Fayetteville\, AR\, 72701\, United States
ATTACH;FMTTYPE=image/jpeg:https://stjbc.org/wp-content/uploads/2026/04/Mothers-Day-2026.jpg
GEO:36.078262;-94.170413
X-APPLE-STRUCTURED-LOCATION;VALUE=URI;X-ADDRESS=St. James Missionary Baptist Church 764 W. North St. Fayetteville AR 72701 United States;X-APPLE-RADIUS=500;X-TITLE=764 W. North St.:geo:-94.170413,36.078262
END:VEVENT
BEGIN:VEVENT
DTSTART;TZID=America/Chicago:20260513T190000
DTEND;TZID=America/Chicago:20260513T200000
DTSTAMP:20260424T102046
CREATED:20260418T144511Z
LAST-MODIFIED:20260418T144623Z
UID:10002409-1778698800-1778702400@stjbc.org
SUMMARY:Bible Study - Every Wednesday @ 7pm
DESCRIPTION:Grow in faith and fellowship with us! All are welcome to join in by Zoom for the study of God’s Word. \nIf you can’t attend in person\, you can join us on Zoom. \nZOOM:\nhttps://us02web.zoom.us/j/88988374642 \nMEETING ID: 889 8837 4642 \nPASSCODE: BIBLE
URL:https://stjbc.org/event/bible-study-every-wednesday-7pm/2026-05-13/
LOCATION:St. James Missionary Baptist Church\, 764 W. North St.\, Fayetteville\, AR\, 72701\, United States
ATTACH;FMTTYPE=image/jpeg:https://stjbc.org/wp-content/uploads/2026/04/bible-study.jpg
GEO:36.078262;-94.170413
X-APPLE-STRUCTURED-LOCATION;VALUE=URI;X-ADDRESS=St. James Missionary Baptist Church 764 W. North St. Fayetteville AR 72701 United States;X-APPLE-RADIUS=500;X-TITLE=764 W. North St.:geo:-94.170413,36.078262
END:VEVENT
BEGIN:VEVENT
DTSTART;TZID=America/Chicago:20260516T140000
DTEND;TZID=America/Chicago:20260516T160000
DTSTAMP:20260424T102046
CREATED:20260423T160801Z
LAST-MODIFIED:20260423T160801Z
UID:10002667-1778940000-1778947200@stjbc.org
SUMMARY:Benders Celebration
DESCRIPTION:Please register for this great occasion.
URL:https://stjbc.org/event/benders-celebration/
ATTACH;FMTTYPE=image/jpeg:https://stjbc.org/wp-content/uploads/2026/04/Benders-50th-Poster-scaled.jpg
END:VEVENT
END:VCALENDAR