


BEGIN:VCALENDAR
VERSION:2.0
PRODID:-//St. James Baptist Church - ECPv6.8.0//NONSGML v1.0//EN
CALSCALE:GREGORIAN
METHOD:PUBLISH
X-WR-CALNAME:St. James Baptist Church
X-ORIGINAL-URL:https://stjbc.org
X-WR-CALDESC:Events for St. James Baptist Church
REFRESH-INTERVAL;VALUE=DURATION:PT1H
X-Robots-Tag:noindex
X-PUBLISHED-TTL:PT1H
BEGIN:VTIMEZONE
TZID:America/Chicago
BEGIN:DAYLIGHT
TZOFFSETFROM:-0600
TZOFFSETTO:-0500
TZNAME:CDT
DTSTART:20250309T080000
END:DAYLIGHT
BEGIN:STANDARD
TZOFFSETFROM:-0500
TZOFFSETTO:-0600
TZNAME:CST
DTSTART:20251102T070000
END:STANDARD
END:VTIMEZONE
BEGIN:VEVENT
DTSTART;VALUE=DATE:20250801
DTEND;VALUE=DATE:20260101
DTSTAMP:20260419T110340
CREATED:20250713T170723Z
LAST-MODIFIED:20250815T020139Z
UID:10001956-1754006400-1767225599@stjbc.org
SUMMARY:STJMBC Choir
DESCRIPTION:
URL:https://stjbc.org/event/stjmbc-choir/
LOCATION:764 W. North Street\, Fayetteville\, AR 72701\, 764 W. North St.\, Fayetteville\, AR\, 72701\, United States
ATTACH;FMTTYPE=image/jpeg:https://stjbc.org/wp-content/uploads/2025/07/Choir2025-1.jpg
END:VEVENT
END:VCALENDAR