


BEGIN:VCALENDAR
VERSION:2.0
PRODID:-//St. James Baptist Church - ECPv6.8.0//NONSGML v1.0//EN
CALSCALE:GREGORIAN
METHOD:PUBLISH
X-WR-CALNAME:St. James Baptist Church
X-ORIGINAL-URL:https://stjbc.org
X-WR-CALDESC:Events for St. James Baptist Church
REFRESH-INTERVAL;VALUE=DURATION:PT1H
X-Robots-Tag:noindex
X-PUBLISHED-TTL:PT1H
BEGIN:VTIMEZONE
TZID:America/Chicago
BEGIN:DAYLIGHT
TZOFFSETFROM:-0600
TZOFFSETTO:-0500
TZNAME:CDT
DTSTART:20260308T080000
END:DAYLIGHT
BEGIN:STANDARD
TZOFFSETFROM:-0500
TZOFFSETTO:-0600
TZNAME:CST
DTSTART:20261101T070000
END:STANDARD
END:VTIMEZONE
BEGIN:VEVENT
DTSTART;TZID=America/Chicago:20260517T120000
DTEND;TZID=America/Chicago:20260517T123000
DTSTAMP:20260424T133512
CREATED:20260417T194946Z
LAST-MODIFIED:20260417T210823Z
UID:10002402-1779019200-1779021000@stjbc.org
SUMMARY:Women's Meeting (TWM)
DESCRIPTION:Sister’s \nThe leaders of the Transformation Women’s Ministry are asking all women to plan to stay for a few minutes after church on May 17th.
URL:https://stjbc.org/event/womens-meeting-twm/
LOCATION:The Historic St James Missionary Baptist Church\, 764 W North St\, Fayetteville\, AR\, 72701-1864\, United States
ATTACH;FMTTYPE=image/jpeg:https://stjbc.org/wp-content/uploads/2026/04/Sis-Stay-a-Minute…-1.jpeg
END:VEVENT
END:VCALENDAR