


BEGIN:VCALENDAR
VERSION:2.0
PRODID:-//St. James Baptist Church - ECPv6.8.0//NONSGML v1.0//EN
CALSCALE:GREGORIAN
METHOD:PUBLISH
X-ORIGINAL-URL:https://stjbc.org
X-WR-CALDESC:Events for St. James Baptist Church
REFRESH-INTERVAL;VALUE=DURATION:PT1H
X-Robots-Tag:noindex
X-PUBLISHED-TTL:PT1H
BEGIN:VTIMEZONE
TZID:America/Chicago
BEGIN:DAYLIGHT
TZOFFSETFROM:-0600
TZOFFSETTO:-0500
TZNAME:CDT
DTSTART:20260308T080000
END:DAYLIGHT
BEGIN:STANDARD
TZOFFSETFROM:-0500
TZOFFSETTO:-0600
TZNAME:CST
DTSTART:20261101T070000
END:STANDARD
END:VTIMEZONE
BEGIN:VEVENT
DTSTART;TZID=America/Chicago:20260509T163000
DTEND;TZID=America/Chicago:20260509T173000
DTSTAMP:20260424T102122
CREATED:20260415T211229Z
LAST-MODIFIED:20260415T211804Z
UID:10002396-1778344200-1778347800@stjbc.org
SUMMARY:Table7Three
DESCRIPTION:
URL:https://stjbc.org/event/table7three/
LOCATION:Genesis Church\, 205 M.L.K. Jr Blvd\, Fayetteville\, 72701\, United States
ATTACH;FMTTYPE=image/jpeg:https://stjbc.org/wp-content/uploads/2026/04/Table7threeMealSchedule.jpg
END:VEVENT
END:VCALENDAR