


BEGIN:VCALENDAR
VERSION:2.0
PRODID:-//St. James Baptist Church - ECPv6.8.0//NONSGML v1.0//EN
CALSCALE:GREGORIAN
METHOD:PUBLISH
X-WR-CALNAME:St. James Baptist Church
X-ORIGINAL-URL:https://stjbc.org
X-WR-CALDESC:Events for St. James Baptist Church
REFRESH-INTERVAL;VALUE=DURATION:PT1H
X-Robots-Tag:noindex
X-PUBLISHED-TTL:PT1H
BEGIN:VTIMEZONE
TZID:America/Chicago
BEGIN:DAYLIGHT
TZOFFSETFROM:-0600
TZOFFSETTO:-0500
TZNAME:CDT
DTSTART:20260308T080000
END:DAYLIGHT
BEGIN:STANDARD
TZOFFSETFROM:-0500
TZOFFSETTO:-0600
TZNAME:CST
DTSTART:20261101T070000
END:STANDARD
END:VTIMEZONE
BEGIN:VEVENT
DTSTART;VALUE=DATE:20260223
DTEND;VALUE=DATE:20260301
DTSTAMP:20260419T125612
CREATED:20260223T193858Z
LAST-MODIFIED:20260223T193858Z
UID:12695-1771804800-1772323199@stjbc.org
SUMMARY:Poster Board Challenge Winners
DESCRIPTION:
URL:https://stjbc.org/event/poster-board-challenge-winners/
ATTACH;FMTTYPE=image/jpeg:https://stjbc.org/wp-content/uploads/2026/02/Poster-Board-Email-Winners-Announcement-Instagram-Post.jpg
END:VEVENT
END:VCALENDAR